BEGIN:VCALENDAR
VERSION:2.0
PRODID:-//Cher Dames de Loire - Dragon Ladies Tours - ECPv4.9.10//NONSGML v1.0//EN
CALSCALE:GREGORIAN
METHOD:PUBLISH
X-WR-CALNAME:Cher Dames de Loire - Dragon Ladies Tours
X-ORIGINAL-URL:https://cherdamesdeloire.fr
X-WR-CALDESC:Évènements pour Cher Dames de Loire - Dragon Ladies Tours
BEGIN:VTIMEZONE
TZID:Europe/Paris
BEGIN:DAYLIGHT
TZOFFSETFROM:+0100
TZOFFSETTO:+0200
TZNAME:CEST
DTSTART:20200329T010000
END:DAYLIGHT
BEGIN:STANDARD
TZOFFSETFROM:+0200
TZOFFSETTO:+0100
TZNAME:CET
DTSTART:20201025T010000
END:STANDARD
END:VTIMEZONE
BEGIN:VEVENT
DTSTART;TZID=Europe/Paris:20200311T190000
DTEND;TZID=Europe/Paris:20200311T220000
DTSTAMP:20260426T032945
CREATED:20200217T103442Z
LAST-MODIFIED:20200217T103442Z
UID:1447-1583953200-1583964000@cherdamesdeloire.fr
SUMMARY:Conférence Inner Wheel
DESCRIPTION:
URL:https://cherdamesdeloire.fr/event/conference-inner-wheel/
LOCATION:Hôtel Mercure\, Tours
CATEGORIES:Soirée de soutien
END:VEVENT
END:VCALENDAR