BEGIN:VCALENDAR
VERSION:2.0
PRODID:-//Cher Dames de Loire - Dragon Ladies Tours - ECPv4.9.10//NONSGML v1.0//EN
CALSCALE:GREGORIAN
METHOD:PUBLISH
X-WR-CALNAME:Cher Dames de Loire - Dragon Ladies Tours
X-ORIGINAL-URL:https://cherdamesdeloire.fr
X-WR-CALDESC:Évènements pour Cher Dames de Loire - Dragon Ladies Tours
BEGIN:VTIMEZONE
TZID:Europe/Paris
BEGIN:DAYLIGHT
TZOFFSETFROM:+0100
TZOFFSETTO:+0200
TZNAME:CEST
DTSTART:20210328T010000
END:DAYLIGHT
BEGIN:STANDARD
TZOFFSETFROM:+0200
TZOFFSETTO:+0100
TZNAME:CET
DTSTART:20211031T010000
END:STANDARD
END:VTIMEZONE
BEGIN:VEVENT
DTSTART;TZID=Europe/Paris:20211204T094500
DTEND;TZID=Europe/Paris:20211204T123000
DTSTAMP:20260425T203711
CREATED:20210916T160828Z
LAST-MODIFIED:20210916T161850Z
UID:1818-1638611100-1638621000@cherdamesdeloire.fr
SUMMARY:entraînement navigation
DESCRIPTION:
URL:https://cherdamesdeloire.fr/event/entrainement-navigation-7/
LOCATION:Pôle Nautique du Cher\, avenue de Florence\, Tours
CATEGORIES:Entraînement
ATTACH;FMTTYPE=image/jpeg:https://cherdamesdeloire.fr/wp-content/uploads/2021/02/Cherdames-juillet20.jpg
END:VEVENT
END:VCALENDAR