BEGIN:VCALENDAR
VERSION:2.0
PRODID:-//Cher Dames de Loire - Dragon Ladies Tours - ECPv4.9.10//NONSGML v1.0//EN
CALSCALE:GREGORIAN
METHOD:PUBLISH
X-WR-CALNAME:Cher Dames de Loire - Dragon Ladies Tours
X-ORIGINAL-URL:https://cherdamesdeloire.fr
X-WR-CALDESC:Évènements pour Cher Dames de Loire - Dragon Ladies Tours
BEGIN:VTIMEZONE
TZID:Europe/Paris
BEGIN:DAYLIGHT
TZOFFSETFROM:+0100
TZOFFSETTO:+0200
TZNAME:CEST
DTSTART:20220327T010000
END:DAYLIGHT
BEGIN:STANDARD
TZOFFSETFROM:+0200
TZOFFSETTO:+0100
TZNAME:CET
DTSTART:20221030T010000
END:STANDARD
END:VTIMEZONE
BEGIN:VEVENT
DTSTART;TZID=Europe/Paris:20220105T094500
DTEND;TZID=Europe/Paris:20220105T123000
DTSTAMP:20260425T220636
CREATED:20220502T203112Z
LAST-MODIFIED:20220502T203235Z
UID:1877-1641375900-1641385800@cherdamesdeloire.fr
SUMMARY:Entrainement Navigation
DESCRIPTION:
URL:https://cherdamesdeloire.fr/event/entrainement-navigation-8/
LOCATION:Pôle Nautique du Cher\, avenue de Florence\, Tours
END:VEVENT
END:VCALENDAR