BEGIN:VCALENDAR
VERSION:2.0
PRODID:-//Cher Dames de Loire - Dragon Ladies Tours - ECPv4.9.10//NONSGML v1.0//EN
CALSCALE:GREGORIAN
METHOD:PUBLISH
X-WR-CALNAME:Cher Dames de Loire - Dragon Ladies Tours
X-ORIGINAL-URL:https://cherdamesdeloire.fr
X-WR-CALDESC:Évènements pour Cher Dames de Loire - Dragon Ladies Tours
BEGIN:VTIMEZONE
TZID:Europe/Paris
BEGIN:DAYLIGHT
TZOFFSETFROM:+0100
TZOFFSETTO:+0200
TZNAME:CEST
DTSTART:20220327T010000
END:DAYLIGHT
BEGIN:STANDARD
TZOFFSETFROM:+0200
TZOFFSETTO:+0100
TZNAME:CET
DTSTART:20221030T010000
END:STANDARD
END:VTIMEZONE
BEGIN:VEVENT
DTSTART;TZID=Europe/Paris:20220122T100000
DTEND;TZID=Europe/Paris:20220122T123000
DTSTAMP:20260426T005156
CREATED:20220502T204616Z
LAST-MODIFIED:20220502T204616Z
UID:1895-1642845600-1642854600@cherdamesdeloire.fr
SUMMARY:Marche
DESCRIPTION:
URL:https://cherdamesdeloire.fr/event/marche-2/
LOCATION:Saint-Avertin
END:VEVENT
END:VCALENDAR