BEGIN:VCALENDAR
VERSION:2.0
PRODID:-//Cher Dames de Loire - Dragon Ladies Tours - ECPv4.9.10//NONSGML v1.0//EN
CALSCALE:GREGORIAN
METHOD:PUBLISH
X-WR-CALNAME:Cher Dames de Loire - Dragon Ladies Tours
X-ORIGINAL-URL:https://cherdamesdeloire.fr
X-WR-CALDESC:Évènements pour Cher Dames de Loire - Dragon Ladies Tours
BEGIN:VTIMEZONE
TZID:Europe/Paris
BEGIN:DAYLIGHT
TZOFFSETFROM:+0100
TZOFFSETTO:+0200
TZNAME:CEST
DTSTART:20200329T010000
END:DAYLIGHT
BEGIN:STANDARD
TZOFFSETFROM:+0200
TZOFFSETTO:+0100
TZNAME:CET
DTSTART:20201025T010000
END:STANDARD
END:VTIMEZONE
BEGIN:VEVENT
DTSTART;TZID=Europe/Paris:20201205T093000
DTEND;TZID=Europe/Paris:20201205T123000
DTSTAMP:20260425T223048
CREATED:20200921T145632Z
LAST-MODIFIED:20200921T145632Z
UID:1637-1607160600-1607171400@cherdamesdeloire.fr
SUMMARY:Navigation
DESCRIPTION:
URL:https://cherdamesdeloire.fr/event/navigation-5/
CATEGORIES:Entraînement
END:VEVENT
END:VCALENDAR